BEGIN:VCALENDAR
PRODID:-//Pixl8//Eventfolio//EN
VERSION:2.0
X-WR-TIMEZONE:Europe/London
CALSCALE:GREGORIAN
METHOD:PUBLISH
CLASS:PUBLIC
BEGIN:VTIMEZONE
TZID:Europe/London
LAST-MODIFIED:20260306T231828Z
TZURL:https://www.tzurl.org/zoneinfo-outlook/Europe/London
X-LIC-LOCATION:Europe/London
BEGIN:DAYLIGHT
TZNAME:BST
TZOFFSETFROM:+0000
TZOFFSETTO:+0100
DTSTART:19700329T010000
RRULE:FREQ=YEARLY;BYMONTH=3;BYDAY=-1SU
END:DAYLIGHT
BEGIN:STANDARD
TZNAME:GMT
TZOFFSETFROM:+0100
TZOFFSETTO:+0000
DTSTART:19701025T020000
RRULE:FREQ=YEARLY;BYMONTH=10;BYDAY=-1SU
END:STANDARD
END:VTIMEZONE
BEGIN:VEVENT
DTSTART;TZID=Europe/London:20241015T100000
DTEND;TZID=Europe/London:20241015T153000
DTSTAMP:20260423T104843Z
UID:{2F0F8C5E-CFC9-4E48-BD0A292339D8BCEF}
LOCATION:Kennedys\, The Colmore Building\, 20 Colmore Circus Queensway\, Birmingham B4 6AT
SUMMARY:ALARM back to basics insurance course
DESCRIPTION:An introduction to the basic principles of insurance in the public sector.\n
 \n
 Event details: https://www.alarmrisk.com/events/alarm-back-to-basics-insurance-course-15-october.html
PRIORITY:1
END:VEVENT
END:VCALENDAR