BEGIN:VCALENDAR
PRODID:-//Pixl8//Eventfolio//EN
VERSION:2.0
X-WR-TIMEZONE:Europe/London
CALSCALE:GREGORIAN
METHOD:PUBLISH
CLASS:PUBLIC
BEGIN:VTIMEZONE
TZID:Europe/London
LAST-MODIFIED:20260306T231828Z
TZURL:https://www.tzurl.org/zoneinfo-outlook/Europe/London
X-LIC-LOCATION:Europe/London
BEGIN:DAYLIGHT
TZNAME:BST
TZOFFSETFROM:+0000
TZOFFSETTO:+0100
DTSTART:19700329T010000
RRULE:FREQ=YEARLY;BYMONTH=3;BYDAY=-1SU
END:DAYLIGHT
BEGIN:STANDARD
TZNAME:GMT
TZOFFSETFROM:+0100
TZOFFSETTO:+0000
DTSTART:19701025T020000
RRULE:FREQ=YEARLY;BYMONTH=10;BYDAY=-1SU
END:STANDARD
END:VTIMEZONE
BEGIN:VEVENT
DTSTART;TZID=Europe/London:20250918T123000
DTEND;TZID=Europe/London:20250918T133000
DTSTAMP:20260419T134555Z
UID:{10A9DA95-0882-4571-86F6D97D459CE3F3}
LOCATION:
SUMMARY:Lunchtime webinar: AI use in driven highways safety inspections
DESCRIPTION:Bitesize learning at lunchtime.\n
 \n
 Event details: https://www.alarmrisk.com/events/lunchtime-webinar-ai-use-in-driven-highways-safety-inspections.html
PRIORITY:1
END:VEVENT
END:VCALENDAR