BEGIN:VCALENDAR
PRODID:-//Pixl8//Eventfolio//EN
VERSION:2.0
X-WR-TIMEZONE:Europe/London
CALSCALE:GREGORIAN
METHOD:PUBLISH
CLASS:PUBLIC
BEGIN:VTIMEZONE
TZID:Europe/London
LAST-MODIFIED:20260306T231828Z
TZURL:https://www.tzurl.org/zoneinfo-outlook/Europe/London
X-LIC-LOCATION:Europe/London
BEGIN:DAYLIGHT
TZNAME:BST
TZOFFSETFROM:+0000
TZOFFSETTO:+0100
DTSTART:19700329T010000
RRULE:FREQ=YEARLY;BYMONTH=3;BYDAY=-1SU
END:DAYLIGHT
BEGIN:STANDARD
TZNAME:GMT
TZOFFSETFROM:+0100
TZOFFSETTO:+0000
DTSTART:19701025T020000
RRULE:FREQ=YEARLY;BYMONTH=10;BYDAY=-1SU
END:STANDARD
END:VTIMEZONE
BEGIN:VEVENT
DTSTART;TZID=Europe/London;VALUE=DATE:20240606
DTEND;TZID=Europe/London;VALUE=DATE:20240607
DTSTAMP:20260419T223628Z
UID:{546D1197-FABA-4393-B13AE6C067480B2B}
LOCATION:Browne Jacobson\, 15th Floor\, No.1\, Spinningfields\, 1 Hardman Square\, Manchester M3 3EB
SUMMARY:Procurement reform roadshow: Manchester
DESCRIPTION:You are invited to Browne Jacobson's procurement reform roadshow.\n
 \n
 Event details: https://www.alarmrisk.com/events/procurement-reform-roadshow-manchester.html
PRIORITY:1
END:VEVENT
END:VCALENDAR